BEGIN:VCALENDAR
VERSION:2.0
PRODID:-//Spiritual Life - ECPv6.15.11//NONSGML v1.0//EN
CALSCALE:GREGORIAN
METHOD:PUBLISH
X-WR-CALNAME:Spiritual Life
X-ORIGINAL-URL:https://www.spiritual-life.at
X-WR-CALDESC:Veranstaltungen für Spiritual Life
REFRESH-INTERVAL;VALUE=DURATION:PT1H
X-Robots-Tag:noindex
X-PUBLISHED-TTL:PT1H
BEGIN:VTIMEZONE
TZID:Europe/Vienna
BEGIN:DAYLIGHT
TZOFFSETFROM:+0100
TZOFFSETTO:+0200
TZNAME:CEST
DTSTART:20250330T010000
END:DAYLIGHT
BEGIN:STANDARD
TZOFFSETFROM:+0200
TZOFFSETTO:+0100
TZNAME:CET
DTSTART:20251026T010000
END:STANDARD
BEGIN:DAYLIGHT
TZOFFSETFROM:+0100
TZOFFSETTO:+0200
TZNAME:CEST
DTSTART:20260329T010000
END:DAYLIGHT
BEGIN:STANDARD
TZOFFSETFROM:+0200
TZOFFSETTO:+0100
TZNAME:CET
DTSTART:20261025T010000
END:STANDARD
BEGIN:DAYLIGHT
TZOFFSETFROM:+0100
TZOFFSETTO:+0200
TZNAME:CEST
DTSTART:20270328T010000
END:DAYLIGHT
BEGIN:STANDARD
TZOFFSETFROM:+0200
TZOFFSETTO:+0100
TZNAME:CET
DTSTART:20271031T010000
END:STANDARD
END:VTIMEZONE
BEGIN:VTIMEZONE
TZID:Europe/Berlin
BEGIN:DAYLIGHT
TZOFFSETFROM:+0100
TZOFFSETTO:+0200
TZNAME:CEST
DTSTART:20250330T010000
END:DAYLIGHT
BEGIN:STANDARD
TZOFFSETFROM:+0200
TZOFFSETTO:+0100
TZNAME:CET
DTSTART:20251026T010000
END:STANDARD
BEGIN:DAYLIGHT
TZOFFSETFROM:+0100
TZOFFSETTO:+0200
TZNAME:CEST
DTSTART:20260329T010000
END:DAYLIGHT
BEGIN:STANDARD
TZOFFSETFROM:+0200
TZOFFSETTO:+0100
TZNAME:CET
DTSTART:20261025T010000
END:STANDARD
BEGIN:DAYLIGHT
TZOFFSETFROM:+0100
TZOFFSETTO:+0200
TZNAME:CEST
DTSTART:20270328T010000
END:DAYLIGHT
BEGIN:STANDARD
TZOFFSETFROM:+0200
TZOFFSETTO:+0100
TZNAME:CET
DTSTART:20271031T010000
END:STANDARD
END:VTIMEZONE
BEGIN:VEVENT
DTSTART;TZID=Europe/Vienna:20260424T150000
DTEND;TZID=Europe/Vienna:20260424T170000
DTSTAMP:20260420T103144
CREATED:20260326T105152Z
LAST-MODIFIED:20260326T134601Z
UID:5339-1777042800-1777050000@www.spiritual-life.at
SUMMARY:🌟 Reiki Auffrischungs-Nachmittag ❤
DESCRIPTION:Reiki Auffrischungs-Nachmittag \nIst bei dir die tägliche Reiki Praxis ein wenig eingeschlafen?\nMöchtest du wieder mehr Reiki in deinen Alltag integrieren?\nMöchtest du deine Wahrnehmung vertiefen?\nOder vielleicht mehr Sicherheit bei der Anwendung gewinnen?\n Genau dann ist dieser Reiki Auffrischungs-Nachmittag das Richtige für dich. \nIn einer achtsamen und unterstützenden Atmosphäre widmen wir uns gemeinsam der Praxis und Vertiefung von Reiki. \nInhalte des Nachmittags: \n* Wiederholung und Vertiefung der Ganzkörperanwendung\n* Üben der Kurzanwendung für den Alltag\n* Selbstanwendung zur eigenen Stärkung\n* Unterstützung durch das Klang-Ei & Young Living Öle\n* Arbeiten mit dem Healing Code\n* Einführung und Anwendung der Reiki Box \nDer Fokus liegt auf praktischem Üben\, Erfahrungsaustausch und dem Wiederentdecken deiner intuitiven Verbindung zur Reiki-Energie. \nVoraussetzung:Mindestens Reiki Grad 1 (unabhängig davon\, wo du ihn absolviert hast) \nWas:         Reiki Auffrischungs-Nachmittag\nWann:     Freitag\, 24. April 2026 Beginn 15:00 Uhr bis ca. 19.00 Uhr\nBeitrag:   € 44\,–\nWo:          Kosmetikpalette Natalie Steigner\nAdresse: Ketzergasse 376\, 1230 Wien \nWeitere Informationen über Reiki und meine Angebote findest du auf unserer Homepage:  www.spiritual-life.at/angebote-ausbildungen/ (Kategorie 2) \nBitte um baldige Anmeldung! \nIch freue mich darauf\, gemeinsam mit dir dein Reiki zu vertiefen 💫 Margeaux (Mar-go)
URL:https://www.spiritual-life.at/event/%f0%9f%8c%9f-reiki-auffrischung-%f0%9f%8c%9f/
END:VEVENT
BEGIN:VEVENT
DTSTART;TZID=Europe/Berlin:20260508T150000
DTEND;TZID=Europe/Berlin:20260605T200000
DTSTAMP:20260420T103144
CREATED:20230325T011751Z
LAST-MODIFIED:20260326T165220Z
UID:3832-1778252400-1780689600@www.spiritual-life.at
SUMMARY:Leichtigkeit & Flow - Impuls-Nachmittag mit 28-Tage-Begleitung ❤️
DESCRIPTION:Leichtigkeit & Flow – der Impuls-Nachmittag mit 28-Tage-Begleitung\ninspiriert von der Energie der Dankbarkeit & der Kraft der bewussten Ausrichtung \n„Die beste Zeit\, um diese Reise zu beginnen\, ist jetzt.” \nDein Leben in Leichtigkeit & Freude \nHältst DU ein Leben in Leichtigkeit & Freude wirklich für möglich?\nNicht nur für andere – sondern für dich? \nEin Leben\, in dem sich deine täglichen Kämpfe\, Sorgen & Zweifel sanft lösen dürfen und indem du dich getragen fühlst – klar\, ruhig und verbunden mit dir selbst. \nUnd was ist mit deinen Glaubenssätzen?\nGlaubst du vielleicht noch\, dass das Leben schwer sein muss?\nDass es nur dann „echt“ ist\, wenn es anstrengend ist? \nDas Leben darf leicht sein. \nEin reines Herz.\nEine klare Ausrichtung.\nUnd die bewusste Entscheidung\, deinem Inneren zu folgen. \nGenau hier beginnt deine Reise: \n✨ Dein Impuls-Nachmittag\nDie Initialzündung mit ganz viel Raum für dich.\nZum Innehalten\, zum Spüren und Erinnern. \nGemeinsam öffnen wir den Raum für: \n\nKlarheit über deine Herzenswünsche\nBewusstwerden deiner aktuellen Muster & Glaubenssätze\nNeue Perspektiven & Möglichkeiten\nErste Schritte in deine innere Freiheit\n\nDu gehst gestärkt\, verbunden und ausgerichtet in \n🌿 Deine 28-Tage-Begleitung 🌿\ngetragen von der feinen Gruppen Energie begleite ich dich über e-mail/Whatsapp – über 28 Tage – mit täglichen Impulsen und Übungen. \nIn dieser Zeit: \n\nVertiefst du deine neue Ausrichtung\nPraktizierst du tägliche Affirmationen\, um mehr Leichtigkeit und Dankbarkeit in dein Leben zu integrieren.\nLöst du Schritt für Schritt alte Begrenzungen und entlastest dein Nervensystem\nVerankerst du mehr Leichtigkeit\, Freude & Vertrauen in deinem Alltag\n\nDu bist nicht allein – wir gehen gemeinsam in ein neues Abenteuer\, das sich Leben nennt.\nEhrlich. Klar. Auf Augenhöhe. \nWas:      Impuls-Nachmittag\nThema:  Leichtigkeit & Flow – kreiere dein magisches Leben\nWann:   Donnerstag\, 8. Mai 2026 von 15:00 bis ca. 19:00 Uhr\nBeitrag: € 55\,– \nWo:        Kosmetikpalette Natalie Steigner\, Ketzergasse 376\, 1230 Wien \n\n\n\nSpürst du\, dass du an einem Punkt der Veränderung stehst? \nDann ist das DEINE Einladung. Sei dabei und melde dich gleich an!\nIch freue mich darauf\, dich kennenzulernen. \nMindset & Flow\nmit Margeaux (Mar-go) \nDas wünsche ich dir von Herzen. 💫
URL:https://www.spiritual-life.at/event/leichtigkeit-flow-impuls-nachmittag-mit-28-tage-begleitung/
LOCATION:ONLINE\, Zugangsdaten werden zugesendet!\, Überall\, Österreich\, Österreich
CATEGORIES:Leichtigkeit & Flow,Shift Your Mindset
ATTACH;FMTTYPE=image/jpeg:https://www.spiritual-life.at/wp-content/uploads/Kreta-6.jpg
END:VEVENT
BEGIN:VEVENT
DTSTART;VALUE=DATE:20260606
DTEND;VALUE=DATE:20260608
DTSTAMP:20260420T103144
CREATED:20200221T134145Z
LAST-MODIFIED:20260326T164733Z
UID:1011-1780704000-1780876799@www.spiritual-life.at
SUMMARY:Reiki 1 - Liebe & Licht
DESCRIPTION:Was ist Reiki? – Dein Weg zu Liebe\, Licht\, innerer Frieden & Harmonie\n“Wenn du Reiki täglich praktizierst\, wählst du die Liebe und den inneren Frieden.” \nDas Wort “Reiki” bedeutet universelle Lebenskraft und ist eine sanfte Methode\, deinen Körper\, deine Gedanken & deine Seele in Einklang zu bringen. Den Weg des Reiki zu gehen heißt\, sich für ein bewusstes & liebevolles Leben zu entscheiden. \nDurch die vier Energieaktivierungen wird dein feinstofflicher Körper gereinigt\, dein Herz öffnet sich für Liebe & Frieden\, & deine Selbstheilungskräfte werden aktiviert. Reiki unterstützt dich dabei\, eine tiefere Verbindung zu deiner Seele aufzunehmen & dein inneres Licht zum Leuchten zu bringen. \n\nReiki 1 – Die Grundlagen des Reiki\nIn diesem Kurs lernst du:\n✨ Die Geschichte und Wirkungsweise von Reiki\n✨ Das indische Chakra-System & seine Verbindung zur Energiearbeit\n✨ Reiju – die vier Energieaktivierungen\, die dich zum Reiki-Kanal machen\n✨ Energetik & Energiearbeit – Wahrnehmung & Fluss der Energie \n“Ich bitte um die Kraft des Reiki.\nIch bitte um Schutz und Führung.” \nInhalte im Überblick:\n🔹 Reiki – Die Grundlagen\nDu wirst zum Kanal der Reiki-Energie und erfährst\, wie Liebe\, Licht und Frieden durch dich fließen. \n🔹 Chakren & feinstoffliche Körper\nEinblick in die sieben Haupt-Chakren\, das achte Chakra und die vier feinstofflichen Körper. Erfahre\, wie Aura-Reinigung deine energetische Wahrnehmung stärken. \n🔹 Reiki in der Praxis\nDurch Übung & Erfahrungsaustausch lernst du\, die Reiki-Energie bewusst zu lenken. Wir praktizieren:\n✔ Kurz- & Selbstanwendung\n✔ Ganzkörperanwendung\n✔ Chakrenausgleich \nNach Reiki 1 und 6 Monate Praxis kannst du deine Reiki-Reise mit Reiki 2 vertiefen. \n\nTrainerin:\n🌿 Margeaux – Reiki-Meisterin & Lehrerin seit 2004\n🔗 Mitglied der Reiki-Meisterliste Österreich: www.reikimeisterliste.net
URL:https://www.spiritual-life.at/event/reiki-1-lichtliebe/
CATEGORIES:Free-To-See-Mentor
ATTACH;FMTTYPE=image/jpeg:https://www.spiritual-life.at/wp-content/uploads/20251009_184314-scaled.jpg
END:VEVENT
BEGIN:VEVENT
DTSTART;TZID=Europe/Berlin:20260926T090000
DTEND;TZID=Europe/Berlin:20261003T180000
DTSTAMP:20260420T103144
CREATED:20250716T120529Z
LAST-MODIFIED:20260128T114309Z
UID:4901-1790413200-1791050400@www.spiritual-life.at
SUMMARY:✨ GIVE DREAMS A SPACE 2026✨
DESCRIPTION:„Wer zu sich selbst finden will\, darf andere nicht nach dem Weg fragen.“\nPaul Watzlawick\n\nWährend dieser Seminarreise in Kreta unterstützen wir unter anderem bei folgenden Themen: \n✨ Sei DU die Veränderung\, die du dir für diese Welt wünschst✨Lebe deine Träume\, lebe deine Vision✨Der Weg deiner Seele – Folge deiner Bestimmung\, deinem inneren Ruf. \n✨ Energetik-Grundlagen (Chakren & Aura) inkl. zahlreiche praktische Übungen. Du lernst wie du dein energetisches Feld reinigst\, aktivierst & aus dem Herzen lebst. \n„Die Spur“ hilft dir\, deinem eigenen Weg (wieder) auf die Spur zu kommen\, deine Intuition zu entdecken und ihr dann im vollen Vertrauen zu folgen.   \nKurz nach Sonnenaufgang ist die beste Zeit\, um den Tag mit einer Meditation\, Qi Gong oder Yoga zu beginnen. Diese Teilnahme ist freiwillig. Langschläfer können dann beim Frühstück dazu kommen. \nNeben täglicher Seminararbeit führen unsere Ausflüge in die nähere Umgebung (zu Fuß und/oder mit dem eigenen Bus) und erfordern keine besonderen Vorkehrungen – lediglich festes Schuhwerk anstelle der Badesandalen und ein kleiner Rucksack empfiehlt sich. Bei durchschnittlich 10 Sonnenstunden pro Tag gibt’s im Oktober selten Regen. \nAlle Geschäfte des täglichen Lebens sind in Mirtos vorhanden: Supermarkt\, Gemüseladen\, Bäcker (sehr zu empfehlen)\, Fleischer\, Apotheke\, Bankomat und vieles mehr.  \nWer Garderobe daheim gelassen hat\, wird in den Gewandshops fündig\, Schmuck gibt’s im Silberladen und wer Souvenirs mit nach Haus nehmen will\, wird ebenfalls in Mirtos fündig. Unsere Quartiere befinden sich allesamt direkt in Mirtos und sind voneinander\, vom Seminarort und Strand nur wenige Gehminuten entfernt. \nKreta hat die Energie\, die Veränderung möglich macht. \nTrainer: Johannes\nTrainerin: Margeaux \nEnergieausgleich: € 1.290\,– pro Person\ninklusive Quartier im EZ\, Halbpension\, Ausflüge\, Bus\, Vorträge\, Workshops & Unterlagen.\n\nJohannes ist gerne bei der Buchung von deinem Flug behilflich.\n\nSeine Kontaktdaten:\nTelefon: +43 (0) 676 521 8800\nE-Mail: office@diespur.eu\n\n✨Hier geht es zur Website von Johannes.\n✨Hier gibt es den Download mit allen Informationen:\nFolder 2026- Give dreams a space im Esperides\n\nUnd für Entschlossene\, geht es hier zur Anmeldung weiter:
URL:https://www.spiritual-life.at/event/give-dreams-a-space-2/
CATEGORIES:Free-To-See-Mentor
ATTACH;FMTTYPE=image/jpeg:https://www.spiritual-life.at/wp-content/uploads/Kreta.jpg
END:VEVENT
BEGIN:VEVENT
DTSTART;TZID=Europe/Berlin:20261114T093000
DTEND;TZID=Europe/Berlin:20261115T163000
DTSTAMP:20260420T103144
CREATED:20220721T122957Z
LAST-MODIFIED:20260326T164621Z
UID:3251-1794648600-1794760200@www.spiritual-life.at
SUMMARY:Energetik Grundlagen Ausbildung - die Basics
DESCRIPTION:Die Energetik Grundlagen Ausbildung ist eine fundierte Ausbildung. Du lernst unter anderem die Basics der Energetik\, vertiefst dein Wissen mit zahlreichen praktischen Übungen und tauscht dich mit Gleichgesinnten aus. Darüber hinaus profistierst du von jahrzehntelanger\, praktisch erprobter Erfahrung der Seminarleiterin. \nInhalte der Energetik Grundlagen Ausbildung: \n Grundbegriffe klären: Energie\, Spiritualität\, Esoterik\, Meridiane\, Dualseele\, …\n Chakren inklusive zahlreicher praktischer Übungen\, Chakren-Test\, Schwingung\n Aura wahrnehmen\, Aura-Reading\n Numerologie Grundlagen und Berechnung deiner Zahlen\n Morgenritual und energetischer Schutz\n Mentaltraining Grundlagen\, Erfolgstagebuch\, Anker setzen\n Intuitionstraining mit Karten\, Pendel\, Tensor\n Channeling\n Ätherische Öle & Bachblüten\n Die sieben Stolpersteine\n Die sieben geistigen Gesetze \nTrainerin: Margeaux \nUmfang:\n3 x ein Wochenende zu € 220\,–inklusive aller Unterlagen \nEnergieausgleich:\n€ 590\,– pro Person\, wenn du alle 3 Seminare im voraus bezahlst. \nZeiten:\n14. und 15. November 2026\n28. und 29. November 2026\n16. und 17. Jänner 2027 \nSamstag 9:30 Uhr bis 17:30 Uhr\nSonntag  9:30 Uhr bis 16:30 Uhr \nWir empfehlen\, dir nach dem Seminar regelmäßig zu den Energieabenden zu kommen\, um zu reflektieren und  das spielerischen Anwenden des Gelernten. \n 
URL:https://www.spiritual-life.at/event/energetik-grundlagen-ausbildung/
LOCATION:1230 Wien – Kosmetikpalette – Ketzergasse 376
CATEGORIES:Energetik Grundlagen Ausbildung
ATTACH;FMTTYPE=image/jpeg:https://www.spiritual-life.at/wp-content/uploads/20251003_125051-scaled.jpg
ORGANIZER;CN="Spiritual Life":MAILTO:margot.brandl@kabsi.at
END:VEVENT
END:VCALENDAR