BEGIN:VCALENDAR
VERSION:2.0
PRODID:-//Spiritual Life - ECPv6.15.11//NONSGML v1.0//EN
CALSCALE:GREGORIAN
METHOD:PUBLISH
X-ORIGINAL-URL:https://www.spiritual-life.at
X-WR-CALDESC:Veranstaltungen für Spiritual Life
REFRESH-INTERVAL;VALUE=DURATION:PT1H
X-Robots-Tag:noindex
X-PUBLISHED-TTL:PT1H
BEGIN:VTIMEZONE
TZID:Europe/Berlin
BEGIN:DAYLIGHT
TZOFFSETFROM:+0100
TZOFFSETTO:+0200
TZNAME:CEST
DTSTART:20210328T010000
END:DAYLIGHT
BEGIN:STANDARD
TZOFFSETFROM:+0200
TZOFFSETTO:+0100
TZNAME:CET
DTSTART:20211031T010000
END:STANDARD
BEGIN:DAYLIGHT
TZOFFSETFROM:+0100
TZOFFSETTO:+0200
TZNAME:CEST
DTSTART:20220327T010000
END:DAYLIGHT
BEGIN:STANDARD
TZOFFSETFROM:+0200
TZOFFSETTO:+0100
TZNAME:CET
DTSTART:20221030T010000
END:STANDARD
BEGIN:DAYLIGHT
TZOFFSETFROM:+0100
TZOFFSETTO:+0200
TZNAME:CEST
DTSTART:20230326T010000
END:DAYLIGHT
BEGIN:STANDARD
TZOFFSETFROM:+0200
TZOFFSETTO:+0100
TZNAME:CET
DTSTART:20231029T010000
END:STANDARD
BEGIN:DAYLIGHT
TZOFFSETFROM:+0100
TZOFFSETTO:+0200
TZNAME:CEST
DTSTART:20240331T010000
END:DAYLIGHT
BEGIN:STANDARD
TZOFFSETFROM:+0200
TZOFFSETTO:+0100
TZNAME:CET
DTSTART:20241027T010000
END:STANDARD
BEGIN:DAYLIGHT
TZOFFSETFROM:+0100
TZOFFSETTO:+0200
TZNAME:CEST
DTSTART:20250330T010000
END:DAYLIGHT
BEGIN:STANDARD
TZOFFSETFROM:+0200
TZOFFSETTO:+0100
TZNAME:CET
DTSTART:20251026T010000
END:STANDARD
BEGIN:DAYLIGHT
TZOFFSETFROM:+0100
TZOFFSETTO:+0200
TZNAME:CEST
DTSTART:20260329T010000
END:DAYLIGHT
BEGIN:STANDARD
TZOFFSETFROM:+0200
TZOFFSETTO:+0100
TZNAME:CET
DTSTART:20261025T010000
END:STANDARD
BEGIN:DAYLIGHT
TZOFFSETFROM:+0100
TZOFFSETTO:+0200
TZNAME:CEST
DTSTART:20270328T010000
END:DAYLIGHT
BEGIN:STANDARD
TZOFFSETFROM:+0200
TZOFFSETTO:+0100
TZNAME:CET
DTSTART:20271031T010000
END:STANDARD
END:VTIMEZONE
BEGIN:VEVENT
DTSTART;TZID=Europe/Berlin:20260409T183000
DTEND;TZID=Europe/Berlin:20260409T210000
DTSTAMP:20260420T124306
CREATED:20260114T130057Z
LAST-MODIFIED:20260326T165129Z
UID:4949-1775759400-1775768400@www.spiritual-life.at
SUMMARY:Energieabend ❤️
DESCRIPTION:Energieabend – Kraft tanken & Verbundenheit erleben \nUnsere Energie-Abende sind eine wunderbare Gelegenheit\, neue Energie zu schöpfen\, Gleichgesinnte zu treffen und dich auf eine tiefere Bewusstseinsebene zu begeben.  Nutze diese Auszeit vom Alltag – dein Körper\, dein Geist und deine Seele werden es dir danken. Egal\, ob du Anfänger oder Fortgeschrittener bist –  du bist herzlich willkommen! \n🌟 Thema am 9. April 2026:\nWie können Beziehungen (wieder) gelingen?\n \nWas:      Energieabend\nThema:  Beziehungschaos lösen – wie können Beziehungen (wieder) gelingen\nWann:   Donnerstag\, 9. April 2026\nAnkommen: 18:30 Uhr – Beginn um 19:00 Uhr bis ca. 21:00 Uhr\n(anschließend geselliges Beisammensein bis 21:30 Uhr)\nBeitrag: Freie Spende (Richtpreis € 20\,– pro Abend)\nWo:        Kosmetikpalette Natalie Steigner\, Ketzergasse 376\, 1230 Wien\n \nDu erfährst unter anderem:  \n*Die Tücken der Kommunikation und wie du damit konstruktiv umgehst\n*Wie du deine Energiebahnen für deine Partnerschaft öffnest?\n*Störing der Paar-Beziehung aus energetischer Sicht\n*Geführte Meditation zu einer erfüllten Partnerschaft \nDu kannst dich aktiv einbringen oder einfach entspannt genießen – ganz nach deinem Gefühl. Gemeinsam gestalten wir einen Abend voller Energie\, Freude und Inspiration!< \nBitte notiere dir gleich die nächsten Termine: 23. April und 7. Mai 2026\nDie kommenden Themen: Der Vagusschlüssel zur Traumaheilung (Gopal Norbert Klein)\, The Magic – kreiere dein magisches Leben \n👉 Wenn du dabei sein willst\, dann melde dich bitte an. \nWir freuen uns sehr auf dein Dabeisein – von Herz zu Herz 💖Alles Liebe und bleib im Flow mit \nNatalie & Margeaux (Mar-go) ✨
URL:https://www.spiritual-life.at/event/energie-abend-%e2%9d%a4%ef%b8%8f/
CATEGORIES:Energetik Grundlagen Ausbildung
ATTACH;FMTTYPE=image/jpeg:https://www.spiritual-life.at/wp-content/uploads/20251009_184314-scaled.jpg
END:VEVENT
BEGIN:VEVENT
DTSTART;TZID=Europe/Berlin:20250503T090000
DTEND;TZID=Europe/Berlin:20250510T180000
DTSTAMP:20260420T124306
CREATED:20221104T175842Z
LAST-MODIFIED:20250313T150731Z
UID:3540-1746262800-1746900000@www.spiritual-life.at
SUMMARY:✨ Give Dreams a Space ✨
DESCRIPTION:Give Dreams a Space – Deine Vision leben auf Kreta\n“Wer zu sich selbst finden will\, darf andere nicht nach dem Weg fragen.” – Paul Watzlawick \nDiese einzigartige Seminarreise nach Kreta lädt dich ein\, innezuhalten\, dich neu auszurichten und den Ruf deiner Seele zu hören. In einer Umgebung voller Licht\, Weite und Kraft begleiten wir dich auf dem Weg zu mehr Klarheit\, Vertrauen und innerer Freiheit. \nWas dich erwartet\n🌿 Sei DU die Veränderung\, die du dir für die Welt wünschst\n🌿 Lebe deine Träume\, lebe deine Vision\n🌿 Folge dem Weg deiner Seele – erkenne deine Bestimmung und deinen inneren Ruf \nMit unserem Seminaransatz „Die Spur“ helfen wir dir\, deine Intuition (wieder) zu entdecken und ihr mit vollem Vertrauen zu folgen. \nTagesablauf & Erlebnisse\n☀ Morgenrituale – Meditation oder Qi Gong zum Sonnenaufgang\n🚶‍♂️ Ausflüge in die Umgebung – zu Fuß oder mit unserem eigenen Bus (feste Schuhe empfohlen)\n🌀 Tägliche Seminararbeit – begleitet von achtsamen Gesprächen & tiefgehenden Übungen\n🌊 Freie Zeit am Meer – Erholung & Integration des Erlebten \nKreta schenkt uns rund 10 Sonnenstunden pro Tag\, und im Mai sowie Oktober ist Regen selten. \nUnterkunft & Umgebung\nUnsere liebevoll ausgewählten Quartiere in Mirtos liegen nur wenige Gehminuten vom Seminarort und dem Strand entfernt. Das charmante Dorf bietet alles\, was du brauchst: Supermarkt\, Bäcker\, Boutiquen\, Schmuckläden und mehr. \nKreta hat die Energie\, die Veränderung möglich macht. Spüre sie – und gib deinen Träumen Raum. \n👥 Trainer: Margeaux & Johannes\n💰 Energieausgleich: ca. € 1.790\,– pro Person (inkl. Einzelzimmer\, Halbpension\, Ausflüge\, Bus & Seminar)
URL:https://www.spiritual-life.at/event/give-dreams-a-space/
CATEGORIES:Free-To-See-Mentor
ATTACH;FMTTYPE=image/jpeg:https://www.spiritual-life.at/wp-content/uploads/Bild-vom-Meer.jpg
END:VEVENT
BEGIN:VEVENT
DTSTART;TZID=Europe/Berlin:20250401T190000
DTEND;TZID=Europe/Berlin:20250401T203000
DTSTAMP:20260420T124306
CREATED:20250304T124413Z
LAST-MODIFIED:20250319T154413Z
UID:5043-1743534000-1743539400@www.spiritual-life.at
SUMMARY:Live-Webinar ☀ ShiftYourMindset ☀ Dein Bewusstseinssprung in Leichtigkeit
DESCRIPTION:Live-Webinar am 1. April 2025 \nShiftYourMindset – Dein Bewusstseinssprung in Leichtigkeit & Flow\n💡 Erlebe Leichtigkeit\, Klarheit und die Kraft der Stille – Deine Transformation beginnt hier! \n🔹 Erkennst du dich hier wieder?\n🔸 Du stehst an einem Wendepunkt und spürst\, dass sich etwas in deinem Leben verändern muss?🔸 Du möchtest mehr Leichtigkeit & Flow in deinen (beruflichen) Alltag bringen?🔸 Du sehnst dich nach innerer Freiheit und willst dich von alten Begrenzungen lösen?🔸 Du weißt\, dass in dir mehr steckt – aber irgendetwas hält dich noch zurück?🔸 Du willst dein Bewusstsein erweitern und dein volles Potenzial entfalten? \nDann sei dabei\, wenn Margeaux Brandl & Waltraud Steiner\, Expertinnen für Bewusstseinsentwicklung & Transformation\, ihre wertvollsten Erkenntnisse mit dir teilen. \nErlebe\, wie du dein Mindset shiftest\, Blockaden auflöst und innere Klarheit gewinnst – Schritt für Schritt. \n🔥 Das erwartet dich im Live-Webinar:\n Wie du mehr Leichtigkeit & Flow in dein Leben bringst  Wie du erkennst\, was dich wirklich blockiert – und es nachhaltig veränderst Wie du durch einen Bewusstseinssprung mehr Leichtigkeit gewinnst LIVE-Übung: Erlebe unmittelbar\, wie sich Klarheit und Energie in dir ausbreiten \n✨ Exklusiv für Live-Teilnehmer: Eine transformierende Meditation zur inneren Freiheit \n🗣 Was Teilnehmer über Margeaux & Waltraud sagen: \n💬 „Ich habe mich sehr wohl gefühlt und so viel über mich gelernt – wie wichtig Mentaltraining ist\,  wie ich mein Selbstwertgefühl pflege uvm – Das war eine besondere Erfahrung!“ – Christiane \n💬 „Durch den Blick nach innen konnte ich zur Ruhe kommen. ShiftYourMindset war das Werkzeug für meinen Weg zur Heilung.“ – Jasmin \n💬 „Ich habe gelernt\, mir energetisch zu vertrauen. Eine unglaubliche Bereicherung!“ – Ulrike \n💬 „So vieles habe ich gelernt – Energieübertragung\, Loslassen\, Meditation und wertvolle Techniken\, die mein Leben bereichern!“ – Claudia \n🎯 Wer sollte teilnehmen? \n✔ Menschen\, die an einem Wendepunkt im Leben stehen\n✔ Menschen\, die mehr Leichtigkeit & Flow in ihren (beruflichen) Alltag bringen wollen\n✔ Menschen\, die sich nach  innerer Freiheit sehnen\n✔ Menschen\, die ihr Potenzial entfalten möchten\n✔ Menschen\, die ihr Bewusstsein erweitern wollen\n✔ Alle\, die spüren\, dass sie sich verändern wollen oder müssen \n🚀 Melde dich jetzt kostenlos an! \n📅 Datum: Dienstag\, 1. April 2025\n⏰ Uhrzeit: 19:00 Uhr\n📍 Ort: Online (Zoom) \n⚠ Nur 50 Plätze verfügbar – sichere dir deinen Platz jetzt! \n👉 💥 Jetzt gratis anmelden & deine Transformation beginnen! 💥 \n  \n 
URL:https://www.spiritual-life.at/event/live-webinar-shiftyourmindset-dein-bewusstseinssprung-in-leichtigkeit/
LOCATION:ONLINE\, Zugangsdaten werden zugesendet!\, Überall\, Österreich\, Österreich
CATEGORIES:Shift Your Mindset
ATTACH;FMTTYPE=image/jpeg:https://www.spiritual-life.at/wp-content/uploads/SYMS-1.jpg
END:VEVENT
BEGIN:VEVENT
DTSTART;TZID=Europe/Berlin:20240530T175400
DTEND;TZID=Europe/Berlin:20240830T175400
DTSTAMP:20260420T124306
CREATED:20221115T131424Z
LAST-MODIFIED:20240527T101125Z
UID:3567-1717091640-1725040440@www.spiritual-life.at
SUMMARY:Shift Your Mindset - Online-Kurs - Rubin
DESCRIPTION:Es ist eine besondere Zeit\, in der wir heute leben.\nViele Menschen wachen auf und stellen fest\, dass es Zeit ist\, in die eigene Kraft zu kommen und das eigene Potenzial zu entfalten.\nDiese Menschen erkennen ihre Einmaligkeit\, ihre Einzigartigkeit und wollen sich aus den Zwängen der Gesellschaft\, der Matrix befreien. Sie wollen sich nicht mehr für die Ziele und Wünsche anderer einspannen lassen! \nKennst du das\, fühlst du dich angesprochen?\nDann haben wir ein tolles Angebot für dich: Der Online-Kurs SHIFTYOURMINDSET\, kurz SYMS genannt. \nVeränderung und Transformation kann leicht sein\, wenn du im Flow bist und dir selbst wieder vertraust.\nDie Matrix versucht dir einzureden\, dass es schwer ist dich zu verändern\, aber das stimmt nicht. Es ist viel leichter als du denkst – mit den richtigen Umfeld und deiner positiven Haltung. \nIn Shift Your Mindset bekommst du eine Schritt für Schritt Anleitung um dein Leben auf ein neues Level zu bringen. Ein Level der Leichtigkeit\, Klarheit\, Lebensfreude und Einfachheit.  \nBist du bereit für …\n\n Veränderung & Transformation\n Klarheit \nSelbstbewusstsein\n Leichtigkeit\n Begeisterung\n Freiheit\n ein Leben im Flow\n \n\nShift Your Mindset ist in 12 Meilensteinen aufgebaut\, in denen du wöchentlich folgendes bekommst… \nInformative Videos\nÜbungs-Videos\n Fokusblätter und eine Zusammenfassung der wichtigsten Infos\n Wunderbare herzöffnende Meditationen und Affirmationen\n Aufgaben und einen Coaching-Partner \nIm Rubin-Level erwarten dich folgende Themen: \n– Hebe deine Schwingung und deinen Energie-Level\n– Komme in deine Leichtigkeit und Freude\n– Lerne Loslassen und gewinne Vertrauen in deine Fähigkeiten\n– Öffne dein Herz und entwickle die beste Version von dir \n– Das Potenzial der Stille und die Entdeckung deiner puren Schöpferkraft\n– Erreiche deine Ziele mit Leichtigkeit\n– Ändere dein Mindset\n– Hebe deinen Selbstwert\n– Programmiere neue\, positive Glaubenssätze & Überzeugungen\n– Finde deine Vision\n– Gestalte dein eigenes Vision-Board \nmit 23 exklusiven Video-Lektionen in 12 Meilensteinen \nplus 1 Übungs-Audio\nplus 1 Affirmationen-Audio zum Downloaden\nplus 18 Fokusblätter und 11 Meditationen zum Downloaden \nhttps://www.youtube.com/watch?v=ZqKFB8rCoLQ&t \nHier geht es zum Teilnehmerfeedback von Hanna \n\n 
URL:https://www.spiritual-life.at/event/syms/
LOCATION:ONLINE\, Zugangsdaten werden zugesendet!\, Überall\, Österreich\, Österreich
CATEGORIES:Shift Your Mindset
ATTACH;FMTTYPE=image/jpeg:https://www.spiritual-life.at/wp-content/uploads/Logo-SYMS.jpg
END:VEVENT
BEGIN:VEVENT
DTSTART;TZID=Europe/Berlin:20240401T175400
DTEND;TZID=Europe/Berlin:20240401T175400
DTSTAMP:20260420T124306
CREATED:20230324T171357Z
LAST-MODIFIED:20240111T160111Z
UID:3834-1711994040-1711994040@www.spiritual-life.at
SUMMARY:Shift Your Mindset - Online-Kurs - Saphir
DESCRIPTION:NEU und Exklusiv\, JETZT ZUM EINSTIEGSPREIS von € 390\,– statt € 620\,–\nEinstieg JEDERZEIT möglich – Nutze deine Chance\, starte JETZT!\nEs ist Zeit\, dein volles Potenzial zu entfalten. Erkenne deine Einzigartigkeit. In Shift Your Mindset gewinnst du deine mentalen Stärke zurück. Du bekommst Klarheit über deine Herzenswünsche & Lebensziele\, deshalb verändert sich ALLES. \nWelchen Weg wählst du?\n\n Sei bereit für Veränderung & Transformation in deinem Leben!\n Erhalte Klarheit über deine Ziele! \n Lass´ dein Selbstbewusstsein wachsen! \n Erweitere deine Komfortzone! \n Entzünde Begeisterung in deinem Leben! \n\nBist du bereit dich weiterzubilden?\nIn diesem Online-Kurs Saphir lernst du \n\n wie du dein Selbstwertgefühl massiv steigerst und\n in Sekunden deinen mentalen Zustand verändern kannst\n dich selbst zu motivieren unabhängig von äußeren Umständen\n dass deine Kraftquelle in dir und dein Schlüssel zum Erfolg ist\n Tipps & Tricks zur Selbstmotivation und zum Durchhalten. \nIm Saphir-Level erwarten dich folgende Themen: \nDas Potenzial der Stille und die Entdeckung der puren Schöpferkraft\n Erreiche deine Ziele mit Leichtigkeit\n Ändere dein Mindset\n Hebe deinen Selbstwert\n Programmiere neue\, positive Glaubenssätze & Überzeugungen\n Finde deine Vision\n Gestalte dein eigenes Vision-Board \nmit 15 exklusiven Video-Lektionen in 7 Meilensteinen \nplus 1 Affirmationen-Audio zum Downloaden\nplus 15 Fokusblätter und 6 Meditationen zum Downloaden \n€ 390\,– oder zwei Raten zu € 200\,– \nDie Meditationen unterstützen den Prozess optimal\, deshalb empfehlen wir dir\, diese 1x täglich über mehrere Wochen anzuhören! \nhttps://www.youtube.com/watch?v=ZqKFB8rCoLQ&t \nDeine Investition:\nfür diesen Online Kurs € 590\,–\n\n Starte JETZT Deinen Weg! \nHier geht es zum Teilnehmerfeedback von Hanna \n\n 
URL:https://www.spiritual-life.at/event/shift-your-mindset-online-kurs-saphir/
LOCATION:ONLINE\, Zugangsdaten werden zugesendet!\, Überall\, Österreich\, Österreich
CATEGORIES:Shift Your Mindset
ATTACH;FMTTYPE=image/jpeg:https://www.spiritual-life.at/wp-content/uploads/Saphir_H-scaled.jpg
END:VEVENT
BEGIN:VEVENT
DTSTART;TZID=Europe/Berlin:20240112T100000
DTEND;TZID=Europe/Berlin:20240112T170000
DTSTAMP:20260420T124306
CREATED:20220306T150729Z
LAST-MODIFIED:20240111T155038Z
UID:2982-1705053600-1705078800@www.spiritual-life.at
SUMMARY:Aktiviere Deinen Lichtkörper
DESCRIPTION:Die Energetik Ausbildung bietet dir \neine fundierte Ausbildung. Du lernst unter anderem die Basics der Energetik\, vertiefst Dein Wissen mit zahlreichen praktischen Übungen und tauscht Dich mit Gleichgesinnten aus. Darüber hinaus profistierst Du von jahrzehntelanger praktisch erprobter Erfahrung. Der regelmäßige Besuch von Energie-Abenden wird empfohlen zum Üben und Anwenden und zum Austausch mit Gleichgesinnten. \nZeiten: je einen Tag im Monat\n \nInhalte – Aktiviere deinen Lichtkörper \nGrundbegriffe klären: Energie\, Spiritualität\, Esoterik\, Meridiane\, Dualseele\, …\nChakren inklusive zahlreicher praktischer Übungen\, Chakren-Test\nLernen die Schwingung anzuheben – bei dir selbst und im Raum \n Aura wahrnehmen\, Aura-Reading\n Morgenritual und energetischer Schutz\n Intuitionstraining mit Karten \nTrainerin:\nMargeaux  \nInvestition:\n€250\,– pro Tag inklusive Skripten\, vegetarische Verpflegung und persönlicher Betreuung \n  \n\n 
URL:https://www.spiritual-life.at/event/energetik-jahreskurs/
LOCATION:1230 Wien – Kosmetikpalette – Ketzergasse 376
CATEGORIES:Energetik Grundlagen Ausbildung
ATTACH;FMTTYPE=image/jpeg:https://www.spiritual-life.at/wp-content/uploads/lotus-1205631-scaled.jpg
ORGANIZER;CN="Spiritual Life":MAILTO:margot.brandl@kabsi.at
END:VEVENT
BEGIN:VEVENT
DTSTART;VALUE=DATE:20250719
DTEND;VALUE=DATE:20250721
DTSTAMP:20260420T124306
CREATED:20250610T091034Z
LAST-MODIFIED:20250610T094609Z
UID:4210-1752883200-1753055999@www.spiritual-life.at
SUMMARY:RÜCKFÜHRUNG - Erkenne\, das Potenzial\, das du bist 💖
DESCRIPTION:Rückführungen zu DEINEN Ahnen – entdecke die Wurzeln deiner Themen 🌳✨ \nEine Rückführung in deine Ahnengeschichte zeigt dir auf eindrucksvolle Weise\, woher bestimmte Muster stammen – oft sind es nicht deine eigenen\, sondern Prägungen\, die du übernommen hast. \n🔍 Dabei können folgende Themen sichtbar werden: \n💭 Unerklärliche Prägungen🧱 Hartnäckige Überzeugungen und Glaubenssätze🌪 Traumatische Erlebnisse deiner Ahnen\, die bis heute nachwirken💫 Werte\, Gefühle & energetische Blockaden😟 Ängste und Befürchtungen🔁 Wiederkehrende\, belastende Erfahrungen😵 Déjà-vus mit tiefer Bedeutung \nDu musst nicht wissen\, was genau deinen Ahnen passiert ist.Aber: Die auftauchenden Bilder und Gefühle machen deine eigenen Themen greifbar und verständlich. 💖 \nWas passiert in der Rückführung? \n✨ Durch heilende Sätze und energetische Reinigung lösen wir diese Themen sanft auf.Du wirst dich innerhalb weniger Tage spürbar befreiter\, klarer und leichter fühlen. \n📄 Du erhältst eine schriftliche Zusammenfassung sowie individuelle Übungen für zuhause. Diese sind freiwillig – aber sehr empfehlenswert\, wenn du das Maximum aus der Rückführung herausholen möchtest. 🚀 \n\nBeispiele tief verwurzelter Glaubenssätze: \n❌ Ich bin ein Versager.❌ Ich kann nicht mit Geld umgehen.❌ Ich bin ein Tollpatsch.❌ Ich muss mich anstrengen\, um geliebt zu werden. \nDiese inneren Überzeugungen blockieren dich in Lebensbereichen wie: \n💚 Körper & Gesundheit❤️ Beziehungen (Partner:in\, Familie\, Freundschaften)💼 Beruf & Finanzen🏡 Wohnen & Umwelt🌌 Spiritualität & Selbstverwirklichung \n\nWas du mit einer Rückführung gewinnst: \n🔑 Tiefe Einsichten in alte Versprechen\, Gelübde und Eide💡 Ein besseres Verständnis für dich selbst🕊 Loslassen und Vergeben – dir und anderen🌈 Heilung auf emotionaler\, energetischer und seelischer Ebene \nEine Rückführung ist keine Spielerei – sie ist ein kraftvolles\, schamanisches Werkzeug zur Selbsterkenntnis und Transformation. Sie bringt Licht ins Dunkel deiner Seelenreise und hilft dir\, dich selbst wieder mit liebevollem Blick zu sehen. 🌟 \n\n🧠 Voraussetzung: psychische Stabilität💰 Investition: € 450\,–\n🕰 Dauer:📅 Samstag: Seminar mit tiefem Hintergrundwissen & gemeinsamer energetischer Klärung📅 Sonntag: Einzelrückführung (120–180 Minuten inkl. Vor- und Nachbesprechung) \n👥 Maximal 4 Teilnehmer📧 Deine persönliche Sitzung bekommst du schriftlich zusammengefasst einige Tage später per E-Mail.
URL:https://www.spiritual-life.at/event/rueckfuehrung-das-potenzial-das-du-bist-%f0%9f%92%96/
LOCATION:1230 Wien – Kosmetikpalette – Ketzergasse 376
ATTACH;FMTTYPE=image/jpeg:https://www.spiritual-life.at/wp-content/uploads/Meilenstein-4-Mindset.jpg
END:VEVENT
BEGIN:VEVENT
DTSTART;TZID=Europe/Berlin:20230601T175400
DTEND;TZID=Europe/Berlin:20230601T175400
DTSTAMP:20260420T124306
CREATED:20230324T164747Z
LAST-MODIFIED:20230325T012811Z
UID:3821-1685642040-1685642040@www.spiritual-life.at
SUMMARY:Shift Your Mindset - Online-Kurs - Kostenlos starten
DESCRIPTION:Wir freuen uns sehr über dein Interesse an unserem Online Kurs Shift Your Mindset 😊 \nWir haben gute Nachrichten für dich: \nDu kannst den Kurs kostenlos beginnen und ausprobieren. Wir empfehlen dir\, dir täglich 10 – 20 Minuten für deine Weiterbildung zu reservieren und unsere Videos und Fokusblätter in dieser Zeit anzuschauen  bzw. auszuarbeiten. Selbstverständlich kannst du dir alles aber auch auf einmal zum Beispiel an einem freien Nachmittag oder am Wochenende anschauen. Gerne beantworten wir dir auftauchende Fragen\, wenn du mit dem kostenlosen Kurs fertig bist\, würden wir uns sehr über dein Feedback freuen.  \nDanach besteht die Möglichkeit deinen individuellen Shift Your Mindset Online-Kurs zu buchen. \nStarte JETZT und schaue dir gleich Meilenstein 1 – Let´s Swing an!!! \nEs ist Zeit\, deine Schwingung anzuheben.  \nIn diesem kostenlos Online-Kurs erwartet dich folgendes Thema: \n– Hebe deine Schwingung und deinen Energie-Level \nmit  2 exklusiven Video-Lektionen im ersten Meilenstein \nplus  2 Übungs-Audios\nplus 2 Fokusblätter und 1 Meditation zum Downloaden \nBeginne jetzt KOSTENLOS \nDie Meditation unterstützt den Meilenstein Let´s swing optimal\, deshalb empfehlen wir dir\, diese 1x täglich eine Woche lang anzuhören! \nhttps://www.youtube.com/watch?v=ZqKFB8rCoLQ&t \n Starte JETZT Deinen Weg! \nHier geht es zum Teilnehmerfeedback von Hanna \n\n 
URL:https://www.spiritual-life.at/event/shift-your-mindset-kostenlos-starten/
LOCATION:ONLINE\, Zugangsdaten werden zugesendet!\, Überall\, Österreich\, Österreich
CATEGORIES:Shift Your Mindset
ATTACH;FMTTYPE=image/jpeg:https://www.spiritual-life.at/wp-content/uploads/Amethyst-1-scaled.jpg
END:VEVENT
BEGIN:VEVENT
DTSTART;TZID=Europe/Berlin:20230429T100000
DTEND;TZID=Europe/Berlin:20230429T170000
DTSTAMP:20260420T124306
CREATED:20220723T081619Z
LAST-MODIFIED:20230308T124621Z
UID:3265-1682762400-1682787600@www.spiritual-life.at
SUMMARY:Kartenlegen Tarot
DESCRIPTION:Du bist neugierig und offen für die Welt des Tarot? \nBist du an diesem vielschichtigen und tiefgründigen Tool zu Selbsterkenntnis und Selbstreflexion interessiert? Dann möchte ich dich gerne an die Hand nehmen und dir mein erarbeitetes Wissen aus meinen Studien und meiner Praxis mitgeben. \nFolgende Inhalte erwarten dich: \n Ich nehme dich mit auf die Reise des Helden. Den Helden in uns allen\, der sich erfahren will in dieser Welt und dadurch wachsen möchte. Durch die Geheimnisse der großen und kleinen Arkana\, den 78 Tarot Karten. \n Diese Reise führt uns durch die verschiedenen Aufgaben des Helden und die 4 Elemente Feuer\, Wasser\, Erde und Luft. \n Wir besprechen alle Karten in ihrer Grundbedeutung\, ihrer Licht- und Schattenseite. \n Wir beleuchten die Elemente mit ihren Aspekten und Energien. \n Auch Farben und Symbolik sowie die astrologische Zuordnung\, Zahlen und Zeitaussagen der Karten werden Thema sein. \n Es werden auch verschiedene Legesysteme bearbeitet und du kannst dir auch dein eigenes System kreieren\, um alle für dich wichtigen Antworten zu deinem Thema zu bekommen. \n Wir berechnen auch deine Persönlichkeitskarte und die Jahreskarte damit du besser mit den aktuellen Situationen deines Jahres und der Energie deines Jahres gut umgehen kannst. \nIn diesem Kurs möchte ich dir alle Basics mitgeben\, um in deine individuelle Arbeit mit dem Tarot zu starten. \nKursaufbau: \nZu Beginn besprechen wir die Heldenreise und die große Arkana. Du erhältst dein Kartenset sowie das erste Legesystem zum Üben. Danach folgen 4 Abende in denen wir jeweils ein Element mit seinen 14 Karten durchnehmen und auftauchende Fragen beantworten. Zuletzt folgen verschiedene Legesysteme zu den verschiedenen Themen wie Liebe\, Beruf und Entwicklung\, die wir gemeinsam durchgehen und legen. \nTestkunden: \nZum Abschluss werde ich auch Testkunden mit echten Fragen zur Verfügung stellen\, für die dann eine Beratung gemacht wird. \nTarot Journal: \nBitte lege dir ein Büchlein zu\, dein Tarot Journal\, in dem du deine Legungen sammelst. \nTrainerin:\nJasmin Mayerhofer \nPreis inklusive Snacks\, Skriptum und ein Kartendeck\n€ 99\,– pro Samstag \nZeiten:\n1. Termin: Samstag\, 4. März 2023 – 10:00 – 17:00 Uhr – die große Arkana – die Heldenreise\n2. Termin: Samstag 29. April 2023  – 10.00 – 17:00 Uhr – die kleine Arkana
URL:https://www.spiritual-life.at/event/kartenlegen-tarot/
CATEGORIES:Free-To-See-Mentor
ATTACH;FMTTYPE=image/jpeg:https://www.spiritual-life.at/wp-content/uploads/Kartenlegen-scaled.jpg
END:VEVENT
BEGIN:VEVENT
DTSTART;TZID=Europe/Berlin:20221125T175400
DTEND;TZID=Europe/Berlin:20221125T175400
DTSTAMP:20260420T124306
CREATED:20220323T143151Z
LAST-MODIFIED:20221115T120502Z
UID:3015-1669398840-1669398840@www.spiritual-life.at
SUMMARY:Shift Your Mindset - Online-Kurs
DESCRIPTION:Einstieg JEDERZEIT möglich – Nutze deine Chance\, starte JETZT!\nEs ist Zeit\, dein volles Potenzial zu entfalten. Erkenne deine Einzigartigkeit. In Shift Your Mindset gewinnst du deine mentalen Stärke zurück. Du bekommst Klarheit über deine Herzenswünsche & Lebensziele\, deshalb verändert sich ALLES. \nWelchen Weg wählst du?\n\n Sei bereit für Veränderung & Transformation in deinem Leben!\n Erhalte Klarheit über deine Ziele! \n Lass´ dein Selbstbewusstsein wachsen! \n Erweitere deine Komfortzone! \n Entzünde Begeisterung in deinem Leben! \n\nBist du bereit dich weiterzubilden?\nIn diesem Online-Kurs lernst du \n\n wie du dein Selbstwertgefühl massiv steigerst und\n in Sekunden deinen mentalen Zustand verändern kannst\n dich selbst zu motivieren unabhängig von äußeren Umständen\n dass deine Kraftquelle in dir und dein Schlüssel zum Erfolg ist\n Tipps & Tricks zur Selbstmotivation und zum Durchhalten. \nShift Your Mindset ist in 6 Meilensteinen aufgebaut\, in denen du wöchentlich folgendes bekommst… \nInformative Videos\nÜbungs-Videos\n Übungsblätter und eine Zusammenfassung der wichtigsten Infos\n Wunderbare herzöffnende Meditationen und Affirmationen\n eine Aufgabe und einen Coaching-Partner \nEs gibt 1x wöchentlich Life-Calls\, bei denen auftauchende Fragen beantwortet werden. \nEs gibt jeden Freitag neue Videos zu den Meilensteinen und darüber hinaus geführte Meditationen. Übungen zur Vertiefung runden das Angebot ab. Die Meditationen unterstützen den Prozess optimal\, deshalb empfehlen wir dir\, diese 1x täglich anzuhören! \n6 Meilensteine in 8 Wochen\, das ist genug Zeit\, um das Gelernte umzusetzen. \nZiele\n\nWarum sind Ziele so wichtig?\nDeine Komfortzone\nABC Ziele\nHerzenswünsche\n\nLet´s swing\n\nEinige Worte über Schwingungen\nWie erkenne ich meine aktuelle Schwingung?`\nWie erhöhe ich meine Schwingung?\n\nGeistige Gesetze\n\nEinige Worte über die geistigen Gesetze\nWie nutze ich die geistigen Gesetze\, um meine Herzenswünsche zu erreichen?\n\nMindset\n\nUnterbewusstsein und Bewusstsein\nPrägungen\, Gewohnheiten\, Überzeugungen\nShift Your Mindset\n\nund noch 2 weitere Meilensteine. \nDeine Investition:\nfür diesen Online Kurs € 399\,–\n\n Starte JETZT Deinen Weg! \nHier geht es: \nzum Video. \nTeilnehmerfeedback von Hanna
URL:https://www.spiritual-life.at/event/shift-your-mindset-online-kurs/
LOCATION:ONLINE\, Zugangsdaten werden zugesendet!\, Überall\, Österreich\, Österreich
CATEGORIES:Shift Your Mindset
ATTACH;FMTTYPE=image/jpeg:https://www.spiritual-life.at/wp-content/uploads/Mentaltraining.jpg
END:VEVENT
BEGIN:VEVENT
DTSTART;TZID=Europe/Berlin:20221010T100000
DTEND;TZID=Europe/Berlin:20221014T170000
DTSTAMP:20260420T124306
CREATED:20200110T083809Z
LAST-MODIFIED:20220903T084437Z
UID:736-1665396000-1665766800@www.spiritual-life.at
SUMMARY:REIKI 3 - Ausbildung zur Reiki-Meister*in & Lehrer*in am Meer
DESCRIPTION:Mit Reiki 3 bekommst Du eine fundierte Ausbildung zur Reiki Meisterin und bist Reiki-Lehrerin\, damit kannst Du bei anderen Menschen die Kraft des Reiki aktivieren. \nWas ist Reiki? \nReiki ist Licht & Liebe\, diese Energie geht weit über das „bloße Handauflegen“ hinaus. Es verhilft Dir dazu\, Selbstheilung auf eine ganzheitliche Weise zu erfahren\, nämlich körperlich\, seelisch und geistig. Eine Energieaktivierung durch Reiki unterstützt das Verbrennen von Blockaden in Deinem Energiesystem\, damit legt Reiki Dein Bewusstsein frei und somit erhältst Du immer mehr Zugang zu Deinem inneren Wissen und zu Deinen Fähigkeiten und Ressourcen. \nReiki beleuchtet unbewusste Strukturen\, dies führt zu einer vertiefenden Entwicklung und Reifung Deiner Seele. Du erhältst tiefe Einblicke in Dein wahres Wesen\, Deinen göttlichen Kern\, sowie in Dein inneres Licht. \nInhalte Reiki 3 – Meister & Lehrer\n\n\nDu lernst das Meistersymbol und bekommst Reiju auf das Meistersymbol\, das ist ein kraftvolles Ritual und aktiviert Deine Reiki-Energie.\nDu führst eigene Energie-Aktivierungen bei anderen Menschen durch.\nEs gibt eine Vielzahl von unterschiedlichen Anwendungsmöglichkeiten\, hierbei sind Deiner Phantasie keine Grenzen gesetzt\, wie beispielsweise Fernreiki\, Geldaufladen mit Reiki\, Kochen mit Reiki\, aber auch die Kombination von Reiki mit Heilsteinen oder Young Living Ölen. Mit den Symbolen kannst Du auch schlimme Erlebnissen in Deiner Vergangenheit harmonisieren.\nWas macht einen guten Lehrer aus?\n\nFür den FreeToSee-Mentor® erforderlich:\n\nAusbildung Energetik Intensiv Kurs\nReiki-Ausbildung (Reiki 1 bis 3)\nÜbersinnlich 1\nChanneling-Ausbildung\nAbschlussprüfung\n\nDie Ausbildung zum Reiki-Meister findet 2022 auf Kreta statt und ist gleichzeitig unsere spirituelle Reise. Solltest du deine Ausbildung abschließen wollen\, aber nicht mitfahren können oder wollen\, dann wende dich gerne an uns. Wir finden eine Lösung! Auch Absolventen unserer Ausbildungen können gerne mitreisen. \n  \nReiki 3 – Fünf neue Meister & Lehrerinnen – Juni 2020 \n  \nMitglied der Reiki-Meisterliste Österreich: www.reikimeisterliste.net \nIch bitte um die Kraft des Reiki.\nIch bitte um Schutz und Führung. \nTrainerin: Margeaux Brandl\nVoraussetzung: Reiki 1 und Reiki 2\nund mindestens ein Jahr praktische Erfahrung mit Reiki. \nReiki 3 findet 2022 auf Kreta statt. \nZeiten: 10. – 14. Oktober 2022\n \n 
URL:https://www.spiritual-life.at/event/reiki_3-meister-lehrer/
LOCATION:Mirtos auf Kreta\, Mirtos\, Griechenland
CATEGORIES:Free-To-See-Mentor
ATTACH;FMTTYPE=image/jpeg:https://www.spiritual-life.at/wp-content/uploads/ReikiHände1.jpg
END:VEVENT
END:VCALENDAR